BEGIN:VCALENDAR
VERSION:2.0
PRODID:-//Tukios.com/
BEGIN:VEVENT
UID:e2db74c1-2da0-4284-b60f-4f33c9e6d31e@www.zwickjahn.com
DTSTAMP:20260424T210735Z
DTSTART:20260429T220000Z
DTEND:20260429T230000Z
SUMMARY:Funeral Service
DESCRIPTION:
URL:https://www.zwickjahn.com/obituaries/charles-bryant
LOCATION: 520 N 2nd St  Decatur IN 46733
GEO:40.8356671;-84.9253672
END:VEVENT
END:VCALENDAR