BEGIN:VCALENDAR
VERSION:2.0
PRODID:-//Tukios.com/
BEGIN:VEVENT
UID:b34047f5-d7fc-4a67-b378-82c57a60ec5f@www.zwickjahn.com
DTSTAMP:20260424T211211Z
DTSTART:20260429T190000Z
DTEND:20260429T220000Z
SUMMARY:Visitation
DESCRIPTION:
URL:https://www.zwickjahn.com/obituaries/charles-bryant
LOCATION: 520 N 2nd St  Decatur IN 46733
GEO:40.8356671;-84.9253672
END:VEVENT
END:VCALENDAR